BEGIN:VCALENDAR
VERSION:2.0
PRODID:-//Kuschelpunk - ECPv6.15.11//NONSGML v1.0//EN
CALSCALE:GREGORIAN
METHOD:PUBLISH
X-WR-CALNAME:Kuschelpunk
X-ORIGINAL-URL:https://kuschelpunk.de
X-WR-CALDESC:Veranstaltungen für Kuschelpunk
REFRESH-INTERVAL;VALUE=DURATION:PT1H
X-Robots-Tag:noindex
X-PUBLISHED-TTL:PT1H
BEGIN:VTIMEZONE
TZID:Europe/Berlin
BEGIN:DAYLIGHT
TZOFFSETFROM:+0100
TZOFFSETTO:+0200
TZNAME:CEST
DTSTART:20250330T010000
END:DAYLIGHT
BEGIN:STANDARD
TZOFFSETFROM:+0200
TZOFFSETTO:+0100
TZNAME:CET
DTSTART:20251026T010000
END:STANDARD
BEGIN:DAYLIGHT
TZOFFSETFROM:+0100
TZOFFSETTO:+0200
TZNAME:CEST
DTSTART:20260329T010000
END:DAYLIGHT
BEGIN:STANDARD
TZOFFSETFROM:+0200
TZOFFSETTO:+0100
TZNAME:CET
DTSTART:20261025T010000
END:STANDARD
BEGIN:DAYLIGHT
TZOFFSETFROM:+0100
TZOFFSETTO:+0200
TZNAME:CEST
DTSTART:20270328T010000
END:DAYLIGHT
BEGIN:STANDARD
TZOFFSETFROM:+0200
TZOFFSETTO:+0100
TZNAME:CET
DTSTART:20271031T010000
END:STANDARD
END:VTIMEZONE
BEGIN:VEVENT
DTSTART;TZID=Europe/Berlin:20260516T190000
DTEND;TZID=Europe/Berlin:20260516T203000
DTSTAMP:20260425T172546
CREATED:20231122T160139Z
LAST-MODIFIED:20260120T174042Z
UID:489-1778958000-1778963400@kuschelpunk.de
SUMMARY:München- Gans Woanders 2026
DESCRIPTION:Anmeldung HIER oder einfach vorbeikommen :) Eintritt frei\, Spenden erwünscht
URL:https://kuschelpunk.de/event/muenchen-gans-woanders/
LOCATION:Gans Woanders\, Pilgersheimerstraße 13.\, München\, Bayern\, 82543\, Deutschland
ATTACH;FMTTYPE=image/jpeg:https://kuschelpunk.de/wp-content/uploads/2022/12/vertrauen_live800.jpg
END:VEVENT
BEGIN:VEVENT
DTSTART;TZID=Europe/Berlin:20260614T163000
DTEND;TZID=Europe/Berlin:20260614T183000
DTSTAMP:20260425T172546
CREATED:20260419T125203Z
LAST-MODIFIED:20260419T125203Z
UID:660-1781454600-1781461800@kuschelpunk.de
SUMMARY:Attenkirchen/Bierfestival 2026
DESCRIPTION:Kuschelpunk auf der Bühne am Dorfplatz des Hallertauer Bierfestivals 2024!
URL:https://kuschelpunk.de/event/attenkirchen-bierfestival-2026/
LOCATION:Hallertauer Bierfestival\, Hauptstraße 5\, Attenkirchen\, Bayern\, 85395\, Deutschland
CATEGORIES:Konzert
ATTACH;FMTTYPE=image/jpeg:https://kuschelpunk.de/wp-content/uploads/2026/04/HBF_2026_Banner-Homepage_1600x800.jpg
END:VEVENT
BEGIN:VEVENT
DTSTART;TZID=Europe/Berlin:20260627T220000
DTEND;TZID=Europe/Berlin:20260627T233000
DTSTAMP:20260425T172546
CREATED:20260419T131758Z
LAST-MODIFIED:20260419T131758Z
UID:663-1782597600-1782603000@kuschelpunk.de
SUMMARY:Mühldorf/Altstadtfest
DESCRIPTION:Kuschelpunk beim größten Altstadtfest in Bayern!\nVon 22:00 vios 23:30 Uhr auf der Bühne vorm Altöttinger Tor
URL:https://kuschelpunk.de/event/muehldorf-altstadtfest/
LOCATION:Altstadtfest Mühldorf\, Bühne am Altöttinger Tor\, Mühldorf\, 84453
CATEGORIES:Konzert
ATTACH;FMTTYPE=image/jpeg:https://kuschelpunk.de/wp-content/uploads/2026/04/Muehldorf-Altstadtfest.jpg
END:VEVENT
BEGIN:VEVENT
DTSTART;TZID=Europe/Berlin:20260717T190000
DTEND;TZID=Europe/Berlin:20260717T213000
DTSTAMP:20260425T172546
CREATED:20250625T142955Z
LAST-MODIFIED:20251008T155328Z
UID:607-1784314800-1784323800@kuschelpunk.de
SUMMARY:München Schwabing -Kuschelpunk bei einer Privatparty
DESCRIPTION:Kuschelpunk ganz privat ;-)
URL:https://kuschelpunk.de/event/kurzauftritt-bei-einer-privatparty/
ATTACH;FMTTYPE=image/jpeg:https://kuschelpunk.de/wp-content/uploads/2023/06/Kuschelpunk_by_Angi_Bass-scaled.jpg
END:VEVENT
BEGIN:VEVENT
DTSTART;TZID=Europe/Berlin:20260808T190000
DTEND;TZID=Europe/Berlin:20260808T210000
DTSTAMP:20260425T172546
CREATED:20260419T132842Z
LAST-MODIFIED:20260419T133114Z
UID:667-1786215600-1786222800@kuschelpunk.de
SUMMARY:München/ Gans am Wasser
DESCRIPTION:Ksuchelpunk im Münchner Westpark im wunderschönen Cafe „Gans am Wasser“
URL:https://kuschelpunk.de/event/muenchen-gans-am-wasser-2/
LOCATION:Gans am Wasser\, Siegenburgerstraße 41 (fürs Navi)\, München-Westpark
CATEGORIES:Konzert
ATTACH;FMTTYPE=image/png:https://kuschelpunk.de/wp-content/uploads/2026/04/Gans-am-wasser.png
END:VEVENT
END:VCALENDAR